BEGIN:VCALENDAR
VERSION:2.0
PRODID:-//Nice à Vélo - ECPv6.15.11//NONSGML v1.0//EN
CALSCALE:GREGORIAN
METHOD:PUBLISH
X-WR-CALNAME:Nice à Vélo
X-ORIGINAL-URL:https://niceavelo.org
X-WR-CALDESC:Évènements pour Nice à Vélo
REFRESH-INTERVAL;VALUE=DURATION:PT1H
X-Robots-Tag:noindex
X-PUBLISHED-TTL:PT1H
BEGIN:VTIMEZONE
TZID:Europe/Paris
BEGIN:DAYLIGHT
TZOFFSETFROM:+0100
TZOFFSETTO:+0200
TZNAME:CEST
DTSTART:20250330T010000
END:DAYLIGHT
BEGIN:STANDARD
TZOFFSETFROM:+0200
TZOFFSETTO:+0100
TZNAME:CET
DTSTART:20251026T010000
END:STANDARD
BEGIN:DAYLIGHT
TZOFFSETFROM:+0100
TZOFFSETTO:+0200
TZNAME:CEST
DTSTART:20260329T010000
END:DAYLIGHT
BEGIN:STANDARD
TZOFFSETFROM:+0200
TZOFFSETTO:+0100
TZNAME:CET
DTSTART:20261025T010000
END:STANDARD
BEGIN:DAYLIGHT
TZOFFSETFROM:+0100
TZOFFSETTO:+0200
TZNAME:CEST
DTSTART:20270328T010000
END:DAYLIGHT
BEGIN:STANDARD
TZOFFSETFROM:+0200
TZOFFSETTO:+0100
TZNAME:CET
DTSTART:20271031T010000
END:STANDARD
END:VTIMEZONE
BEGIN:VEVENT
DTSTART;TZID=Europe/Paris:20260425T153000
DTEND;TZID=Europe/Paris:20260425T180000
DTSTAMP:20260420T091531
CREATED:20260419T155126Z
LAST-MODIFIED:20260419T155213Z
UID:5156-1777131000-1777140000@niceavelo.org
SUMMARY:Alleycat féministe et inclusive
DESCRIPTION:Alleycat féministe et inclusive \nUne course urbaine pour jouer\, explorer et (re)découvrir Nice autrement : à travers des lieux\, des personnes et des histoires qui racontent une vision alternative de la ville. \n📍 Rendez-vous samedi 25 avril à 15h30\, place Garibaldi\nDate de la Libération fasciste en Italie : une belle occasion de se réunir et de célébrer. \nTous les vélos sont les bienvenus\, quel que soit ton niveau ! \n🌈 Événement en mixité choisie : ouvert aux femmes et aux minorités de genre. \n🏁 Arrivée au Quartier du Poulpe\, 34 bd Auguste Reynaud.\nUn apéro ouvert à toutes et tous pour clôturer ensemble ce moment. \nMais au fait\, c’est quoi une alleycat ?\nC’est une course à vélo en milieu urbain\, née dans les années 90 au sein des cultures alternatives.\nLe but est avant tout de se retrouver et de partager.
URL:https://niceavelo.org/event/alleycat-feministe-et-inclusive/
CATEGORIES:Alleycat,Apéro,Événement
ATTACH;FMTTYPE=image/jpeg:https://niceavelo.org/wp-content/uploads/2026/04/WhatsApp-Image-2026-04-19-at-11.10.08.jpeg
END:VEVENT
END:VCALENDAR