BEGIN:VCALENDAR
VERSION:2.0
PRODID:-//Nice à Vélo - ECPv6.15.11//NONSGML v1.0//EN
CALSCALE:GREGORIAN
METHOD:PUBLISH
X-ORIGINAL-URL:https://niceavelo.org
X-WR-CALDESC:Évènements pour Nice à Vélo
REFRESH-INTERVAL;VALUE=DURATION:PT1H
X-Robots-Tag:noindex
X-PUBLISHED-TTL:PT1H
BEGIN:VTIMEZONE
TZID:Europe/Paris
BEGIN:DAYLIGHT
TZOFFSETFROM:+0100
TZOFFSETTO:+0200
TZNAME:CEST
DTSTART:20250330T010000
END:DAYLIGHT
BEGIN:STANDARD
TZOFFSETFROM:+0200
TZOFFSETTO:+0100
TZNAME:CET
DTSTART:20251026T010000
END:STANDARD
BEGIN:DAYLIGHT
TZOFFSETFROM:+0100
TZOFFSETTO:+0200
TZNAME:CEST
DTSTART:20260329T010000
END:DAYLIGHT
BEGIN:STANDARD
TZOFFSETFROM:+0200
TZOFFSETTO:+0100
TZNAME:CET
DTSTART:20261025T010000
END:STANDARD
BEGIN:DAYLIGHT
TZOFFSETFROM:+0100
TZOFFSETTO:+0200
TZNAME:CEST
DTSTART:20270328T010000
END:DAYLIGHT
BEGIN:STANDARD
TZOFFSETFROM:+0200
TZOFFSETTO:+0100
TZNAME:CET
DTSTART:20271031T010000
END:STANDARD
END:VTIMEZONE
BEGIN:VEVENT
DTSTART;TZID=Europe/Paris:20260516T163000
DTEND;TZID=Europe/Paris:20260516T210000
DTSTAMP:20260424T193958
CREATED:20260423T202923Z
LAST-MODIFIED:20260423T202923Z
UID:5176-1778949000-1778965200@niceavelo.org
SUMMARY:🌙✨ Viens voir Nice sous les étoiles… depuis Antibes ! ✨🚲
DESCRIPTION:Dans le cadre de Mai à Vélo\, le mois national pour remettre le vélo au cœur de nos déplacements 🚴‍♀️ \n📅 Samedi 16 mai 🌙 Sortie nocturne avec Nice à Vélo \n☀️ Nice → Antibes de jour 🌌 Antibes → Nice de nuit 📏 ~40 km aller-retour \n📍 RDV 16h30 – départ 17h Place Grimaldi \n🥪 Emmène ton pique-nique pour une pause magique sur la plage de la Salis\, face aux lumières de la côte… \n🌊 Et au retour ? Une balade de nuit au rythme des vagues ✨ \n💡 Pense à prendre tes lumières… et pourquoi pas quelques décorations lumineuses pour briller ensemble !
URL:https://niceavelo.org/event/%f0%9f%8c%99%e2%9c%a8-viens-voir-nice-sous-les-etoiles-depuis-antibes-%e2%9c%a8%f0%9f%9a%b2/
CATEGORIES:Apéro,Sortie à vélo
ATTACH;FMTTYPE=image/png:https://niceavelo.org/wp-content/uploads/2026/04/Viens-voir-Nice-sous-les-etoiles-depuis-Antibes.png
END:VEVENT
END:VCALENDAR