BEGIN:VCALENDAR
VERSION:2.0
PRODID:-//Nice à Vélo - ECPv6.15.11//NONSGML v1.0//EN
CALSCALE:GREGORIAN
METHOD:PUBLISH
X-WR-CALNAME:Nice à Vélo
X-ORIGINAL-URL:https://niceavelo.org
X-WR-CALDESC:Évènements pour Nice à Vélo
REFRESH-INTERVAL;VALUE=DURATION:PT1H
X-Robots-Tag:noindex
X-PUBLISHED-TTL:PT1H
BEGIN:VTIMEZONE
TZID:Europe/Paris
BEGIN:DAYLIGHT
TZOFFSETFROM:+0100
TZOFFSETTO:+0200
TZNAME:CEST
DTSTART:20250330T010000
END:DAYLIGHT
BEGIN:STANDARD
TZOFFSETFROM:+0200
TZOFFSETTO:+0100
TZNAME:CET
DTSTART:20251026T010000
END:STANDARD
BEGIN:DAYLIGHT
TZOFFSETFROM:+0100
TZOFFSETTO:+0200
TZNAME:CEST
DTSTART:20260329T010000
END:DAYLIGHT
BEGIN:STANDARD
TZOFFSETFROM:+0200
TZOFFSETTO:+0100
TZNAME:CET
DTSTART:20261025T010000
END:STANDARD
BEGIN:DAYLIGHT
TZOFFSETFROM:+0100
TZOFFSETTO:+0200
TZNAME:CEST
DTSTART:20270328T010000
END:DAYLIGHT
BEGIN:STANDARD
TZOFFSETFROM:+0200
TZOFFSETTO:+0100
TZNAME:CET
DTSTART:20271031T010000
END:STANDARD
END:VTIMEZONE
BEGIN:VEVENT
DTSTART;TZID=Europe/Paris:20260313T190000
DTEND;TZID=Europe/Paris:20260313T210000
DTSTAMP:20260424T205627
CREATED:20260308T223554Z
LAST-MODIFIED:20260308T223554Z
UID:5063-1773428400-1773435600@niceavelo.org
SUMMARY:Apéro-citoyen « Ma ville cyclable »
DESCRIPTION:Apéro-citoyen « Ma ville cyclable » \nL’association Nice à Vélo vous invite à partager un verre autour d’un sujet qui nous concerne toutes et tous : l’avenir du vélo dans notre ville. \nCe sera l’occasion aussi de vous présenter notre nouvelle plateforme en ligne\, qui analyse les réponses des candidats de la Métropole à nos 30 propositions pour développer le vélo. \nLes propositions sont le fruit d’un atelier citoyen organisé en octobre\, qui a réuni des habitants\, des usagers du vélo\, des membres des associations du territoire et de Nice à Vélo. \nLes choix faits ce 15 mars pour nos rues\, nos déplacements et notre qualité de vie comptent plus que jamais. Venez nombreuses et nombreux pour échanger des idées et vous engager pour une ville plus cyclable\, accessible et agréable à vivre ! \n👉 Consultez le site\, partagez-le et interpellez les candidat·es ! \n🍺 Pour l’apéro\, apportez de quoi grignoter ou boire\, selon l’inspiration et vos possibilités.
URL:https://niceavelo.org/event/apero-citoyen-ma-ville-cyclable/
LOCATION:La Base\, 29 Route de Turin\, Nice\, France
CATEGORIES:Apéro
ATTACH;FMTTYPE=image/png:https://niceavelo.org/wp-content/uploads/2026/03/2.png
END:VEVENT
END:VCALENDAR