BEGIN:VCALENDAR
VERSION:2.0
PRODID:-//Nice à Vélo - ECPv6.15.11//NONSGML v1.0//EN
CALSCALE:GREGORIAN
METHOD:PUBLISH
X-WR-CALNAME:Nice à Vélo
X-ORIGINAL-URL:https://niceavelo.org
X-WR-CALDESC:Évènements pour Nice à Vélo
REFRESH-INTERVAL;VALUE=DURATION:PT1H
X-Robots-Tag:noindex
X-PUBLISHED-TTL:PT1H
BEGIN:VTIMEZONE
TZID:Europe/Paris
BEGIN:DAYLIGHT
TZOFFSETFROM:+0100
TZOFFSETTO:+0200
TZNAME:CEST
DTSTART:20220327T010000
END:DAYLIGHT
BEGIN:STANDARD
TZOFFSETFROM:+0200
TZOFFSETTO:+0100
TZNAME:CET
DTSTART:20221030T010000
END:STANDARD
BEGIN:DAYLIGHT
TZOFFSETFROM:+0100
TZOFFSETTO:+0200
TZNAME:CEST
DTSTART:20230326T010000
END:DAYLIGHT
BEGIN:STANDARD
TZOFFSETFROM:+0200
TZOFFSETTO:+0100
TZNAME:CET
DTSTART:20231029T010000
END:STANDARD
BEGIN:DAYLIGHT
TZOFFSETFROM:+0100
TZOFFSETTO:+0200
TZNAME:CEST
DTSTART:20240331T010000
END:DAYLIGHT
BEGIN:STANDARD
TZOFFSETFROM:+0200
TZOFFSETTO:+0100
TZNAME:CET
DTSTART:20241027T010000
END:STANDARD
END:VTIMEZONE
BEGIN:VEVENT
DTSTART;TZID=Europe/Paris:20230506T100000
DTEND;TZID=Europe/Paris:20230506T150000
DTSTAMP:20260424T200522
CREATED:20230419T155134Z
LAST-MODIFIED:20230504T132345Z
UID:2624-1683367200-1683385200@niceavelo.org
SUMMARY:Voyage en Italie...ou presque.
DESCRIPTION:Et si Samedi on allait en Italie sans changer de pays ?\nChaque premier samedi du mois Cagnes-sur-Mer accueille le « Mercato Italiano ».\nRejoignez-nous au départ de Nice (Rauba Capeu #ILoveNice) pour un pique-nique aux gouts d’Italie.\n\nLe parcours est accessible et adapté à tous niveaux: du débutant au pros! De plus\, il est sécurisé sur sa totalité!\nPour celles et ceux qui le souhaitent\, il sera possible de nous rejoindre sur le parcours le long de l’EuroVelo8.\n\nEt si vous voulez nous rejoindre directement à Cagnes\, l’arrivée est prévue pour 11h30.
URL:https://niceavelo.org/event/voyage-en-italie-ou-presque/
LOCATION:Rauba Capeu\, Quai Rauba Capeu\, Nice\, 06300\, France
CATEGORIES:Mai à Vélo,Sortie à vélo
ATTACH;FMTTYPE=image/png:https://niceavelo.org/wp-content/uploads/2023/04/MAIAVELO_2023_A3_PERSO2-A-1.png
END:VEVENT
BEGIN:VEVENT
DTSTART;TZID=Europe/Paris:20230514T093000
DTEND;TZID=Europe/Paris:20230514T130000
DTSTAMP:20260424T200522
CREATED:20230430T095613Z
LAST-MODIFIED:20230504T132415Z
UID:2645-1684056600-1684069200@niceavelo.org
SUMMARY:Sortie Nice - Cap d'Antibes (55 km)
DESCRIPTION:Une longue sortie tous niveaux par le bord de mer jusqu’au Cap d’Antibes ! \nPensez à activer l’application Geovelo pour comptes vos kilomètres dans le Challenge Mai à Vélo ! \nRDV 9h30 Promenade des Anglais en bas de Bd. Gambetta
URL:https://niceavelo.org/event/sortie-nice-cap-dantibes-55-km/
LOCATION:Promenade des Anglais en bas de Gambetta\, 45 Promenade des Anglais\, Nice\, 06000\, France
CATEGORIES:Mai à Vélo,Sortie à vélo
ATTACH;FMTTYPE=image/jpeg:https://niceavelo.org/wp-content/uploads/2023/04/jane-ackerley-WiN6Az_8cGQ-unsplash.jpeg
END:VEVENT
BEGIN:VEVENT
DTSTART;TZID=Europe/Paris:20230521T110000
DTEND;TZID=Europe/Paris:20230521T150000
DTSTAMP:20260424T200522
CREATED:20230504T132040Z
LAST-MODIFIED:20230504T133151Z
UID:2664-1684666800-1684681200@niceavelo.org
SUMMARY:Fête De Mai (À Vélo) - Cimiez
DESCRIPTION:Le Comité de quartier Carabacel-Cimiez et son collectif vélo organisent\, avec le soutien de l’association Nice-à-vélo\, un parcours festif à découvrir seul ou en famille.\n\nAu programme :\n– Départ : 11h au 1 bis\, avenue Villebois Mareuil.\n– Arrivée : Parc des Arènes de Cimiez avec un pique-nique partagé.\n\nBalade accompagnée et non encadrée.\nSous la responsabilité de chaque participant.
URL:https://niceavelo.org/event/fetes-de-mai-a-velo-cimiez/
LOCATION:Cimiez\, 1 bis\, Avenue Villebois Mareuil\, Nice\, 06300\, France
CATEGORIES:Événement,Mai à Vélo,VéloParade
ATTACH;FMTTYPE=image/jpeg:https://niceavelo.org/wp-content/uploads/2023/05/f7ed56e2-1407-4e6d-98ff-0f8ee0763d92.jpg
END:VEVENT
BEGIN:VEVENT
DTSTART;TZID=Europe/Paris:20230523T080000
DTEND;TZID=Europe/Paris:20230523T230000
DTSTAMP:20260424T200522
CREATED:20230430T100725Z
LAST-MODIFIED:20230517T151028Z
UID:2649-1684828800-1684882800@niceavelo.org
SUMMARY:Soirée Vélo-Ciné : projection du film "Together We Cycle" en présence d'Olivier Schneider\, président de la FUB
DESCRIPTION:L’association Nice à Vélo\, Vélo-École Cyclotrope et l’association CycLinks vous invitent à une séance spéciale du film « Together We Cycle »\, en présence d’Olivier Schneider\, président de la FUB (Fédération Française des Usagers de la Bicyclette). \nLes Pays-Bas sont le royaume du vélo\, mais peu savent que cela n’a pas toujours été le cas ! Le réalisateur Gertjan Hulster nous explique comment les Néerlandais ont transformé leur pays en faisant émerger une véritable culture du vélo. De nombreuses images d’archives\, entretiens et extraits historiques documentent cette transition qui s’est opérée aux Pays-Bas. \nLieu : Cinema Belmondo (ancien Mercury)Film doublé en Français.Type de film: Long-métrageAnnée de production: 2020Durée: 1h10 \nL’association Nice-à-Vélo et ses partenaires\, la Vélo-Ecole Cyclotrope et l’association CycLinks\, veulent vous offrir une soirée cinéma la plus accessible possible. Néanmoins\, nous engageons des frais importants (location de la salle de cinéma et droit de projection du film) et c’est pour cela que nous avons décidé pour un prix libre et conscient avec une contribution minimale d’1 euro. \nRéservation obligatoire\, prix libre et conscient \nParlez-en sur Facebook à votre entourage !
URL:https://niceavelo.org/event/soiree-velo-cine-together-we-cycle/
LOCATION:Cinéma Jean Paul Belmondo\, 16 Place Garibaldi\, Nice\, Alpes-Maritimes\, 06300\, France
CATEGORIES:Événement,Mai à Vélo,Soirée Ciné
ATTACH;FMTTYPE=image/png:https://niceavelo.org/wp-content/uploads/2023/04/TWC-NAV-5.png
END:VEVENT
BEGIN:VEVENT
DTSTART;TZID=Europe/Paris:20230528T083000
DTEND;TZID=Europe/Paris:20230528T170000
DTSTAMP:20260424T200522
CREATED:20230526T100814Z
LAST-MODIFIED:20230526T100814Z
UID:2700-1685262600-1685293200@niceavelo.org
SUMMARY:Convergence Azuréenne 2023
DESCRIPTION:Pour la 5ième année consécutive\, l’association Choisir le Vélo\, organise la Convergence Azuréenne à vélo\, le dimanche 28 mai.\n\nEn partenariat avec la vélo-école Cyclotrope et l’association Nice-à-Vélo\, nous avons le plaisir de vous inviter à prendre part à cette grande balade à vélo qui rassemble des cyclistes de tous âges venant de plusieurs villes des Alpes-Maritimes pour converger vers un point commun\, cette année Antibes. \n\nUne fois toutes et tous réunis\, une grande parade festive prendra la direction du bord de mer et se terminera au parc Vaugrenier pour un pique-nique partagé.\nLes départs sur les lignes #4 et #5 :\n09h30 Nice – Rauba Capeu\n09h30 Saint Paul de Vence\n09h50 La Colle sur Loup\n10h00 St. Laurent du Var\n10h25 Villeneuve Loubet\n10h30 Cagnes-sur-Mer \n+info : https://www.choisirlevelo.org/convergence/
URL:https://niceavelo.org/event/convergence-azureenne-2023/
CATEGORIES:Événement,Mai à Vélo,VéloParade
ATTACH;FMTTYPE=image/jpeg:https://niceavelo.org/wp-content/uploads/2023/05/WhatsApp-Image-2023-05-25-at-21.28.09.jpeg
END:VEVENT
END:VCALENDAR