BEGIN:VCALENDAR
VERSION:2.0
PRODID:-//Nice à Vélo - ECPv6.15.11//NONSGML v1.0//EN
CALSCALE:GREGORIAN
METHOD:PUBLISH
X-ORIGINAL-URL:https://niceavelo.org
X-WR-CALDESC:Évènements pour Nice à Vélo
REFRESH-INTERVAL;VALUE=DURATION:PT1H
X-Robots-Tag:noindex
X-PUBLISHED-TTL:PT1H
BEGIN:VTIMEZONE
TZID:Europe/Paris
BEGIN:DAYLIGHT
TZOFFSETFROM:+0100
TZOFFSETTO:+0200
TZNAME:CEST
DTSTART:20230326T010000
END:DAYLIGHT
BEGIN:STANDARD
TZOFFSETFROM:+0200
TZOFFSETTO:+0100
TZNAME:CET
DTSTART:20231029T010000
END:STANDARD
BEGIN:DAYLIGHT
TZOFFSETFROM:+0100
TZOFFSETTO:+0200
TZNAME:CEST
DTSTART:20240331T010000
END:DAYLIGHT
BEGIN:STANDARD
TZOFFSETFROM:+0200
TZOFFSETTO:+0100
TZNAME:CET
DTSTART:20241027T010000
END:STANDARD
BEGIN:DAYLIGHT
TZOFFSETFROM:+0100
TZOFFSETTO:+0200
TZNAME:CEST
DTSTART:20250330T010000
END:DAYLIGHT
BEGIN:STANDARD
TZOFFSETFROM:+0200
TZOFFSETTO:+0100
TZNAME:CET
DTSTART:20251026T010000
END:STANDARD
END:VTIMEZONE
BEGIN:VEVENT
DTSTART;TZID=Europe/Paris:20240504T100000
DTEND;TZID=Europe/Paris:20240504T120000
DTSTAMP:20260424T020939
CREATED:20240425T162749Z
LAST-MODIFIED:20240425T162809Z
UID:3651-1714816800-1714824000@niceavelo.org
SUMMARY:Je me re-mai à vélo !
DESCRIPTION: Date: Samedi 4 Mai Heure de départ: 10h00 Lieu de rendez-vous: Place Franklin\, NiceNiveau : Facile / Débutant\n\n C’est le moment de sortir vos vélos de la cave ! Enlevez les toiles d’araignées\, gonflez un peu les pneus\, assurez-vous que les freins marchent et partez vous balader avec nous !\nEn ce mois de mai\, nous voulons vous redonner l’envie de vous déplacer à vélo ! Rejoignez-nous pour cette balade spécialement conçue pour reprendre confiance et dépasser vos craintes. Nous voulons vous aider à retrouver confiance et à réadopter le vélo\, non pas pour un jour\, mais pour la vie !\n\nÀ la fin de la balade\, un petit atelier de méditation vous attend au Parc Vigier!\n\nLa balade est GRATUITE\, mais l’inscription est OBLIGATOIRE pour une meilleure organisation !\nLors de votre inscription\, vous pouvez également indiquer si vous préférez que nous venions vous chercher pour vous rendre au lieu de rendez-vous ensemble\, au cas où vous ne seriez pas assez à l’aise sur votre selle pour vous y rendre seuls. Nous ferons de notre mieux pour répondre à vos demandes dans la mesure de nos possibilités !\n\nAlors\, qu’attendez-vous ? Inscrivez-vous à la balade dès maintenant !\nInscriptions ici : https://www.helloasso.com/…/evenem…/balade-et-meditation
URL:https://niceavelo.org/event/je-me-re-mai-a-velo/
LOCATION:Place Franklin\, Place Franklin\, Nice\, 06000\, France
CATEGORIES:Événement,Mai à Vélo,Sortie à vélo
ATTACH;FMTTYPE=image/png:https://niceavelo.org/wp-content/uploads/2024/04/1_1.png
END:VEVENT
BEGIN:VEVENT
DTSTART;TZID=Europe/Paris:20240504T100000
DTEND;TZID=Europe/Paris:20240504T160000
DTSTAMP:20260424T020939
CREATED:20240421T171404Z
LAST-MODIFIED:20240425T162353Z
UID:3606-1714816800-1714838400@niceavelo.org
SUMMARY:We VéLo Cheese - Bike Ride
DESCRIPTION: We Vélo Cheese Bike Ride \n\n Date: Samedi 4 Mai 2024 Heure: 10h Lieu de rendez-vous: Place Franklin \nNiveau : Intermédiaire (Temps totale : 4h\, D+: 250m\, Distance totale : 70km\, 91% de voies cyclables) \n\n\nUne boucle de 70 km au départ de Nice\, avec 90% du parcours sur des pistes cyclables ! \n\n Pique-nique : Nous ferons une halte à la fromagerie de l’Estéron où vous aurez l’occasion de vous procurer de délicieux fromages pour un pique-nique autour du lac du Broc. Bien sûr\, vous pouvez amener votre propre gamelle si vous préférez !\nCet événement est gratuit et ouvert à toutes et à tous\, que vous soyez cycliste passionné ou novices en quête d’une balade agréable. \n\nAu plaisir de partager cette journée de vélo et de fromage avec vous tous ! \n\n#MaiAVélo2024#ChallengeActivité\nItinéraire GéoVélo : https://link.geovelo.fr/qUurqq2RSs2JThuu8
URL:https://niceavelo.org/event/we-velo-cheese-bike-ride/
CATEGORIES:Mai à Vélo,Sortie à vélo
ATTACH;FMTTYPE=image/png:https://niceavelo.org/wp-content/uploads/2024/04/IG_STORY-1.png
END:VEVENT
BEGIN:VEVENT
DTSTART;TZID=Europe/Paris:20240511T100000
DTEND;TZID=Europe/Paris:20240511T123000
DTSTAMP:20260424T020939
CREATED:20240425T163041Z
LAST-MODIFIED:20240507T170740Z
UID:3655-1715421600-1715430600@niceavelo.org
SUMMARY:Atelier mécanique de base
DESCRIPTION: Atelier de Mécanique de Base pour Vélos \n\nVous souhaitez être autonome pour les petites réparations ?\nEn partenariat avec la Sécurité Routière et la Préfecture des Alpes Maritimes\, l’association Nice à Vélo est heureuse de vous inviter à notre atelier de mécanique de base ! \n\n Date : Samedi 11 mai\n Sessions disponibles :Session 1 : 10h00Session 2 : 11h15\n Lieu : Place Arson\n\nAu programme de cet atelier :\n Apprendre à faire un diagnostic rapide de votre vélo Savoir poser une rustine efficacement Changer une chambre à air\n\nNos bénévoles passionnés seront présents pour vous guider pas à pas. \n\n N’oubliez pas d’amener votre vélo ! \n\nCet événement est gratuit et ouvert à tout le monde\, mais l’inscription est obligatoire pour qu’on puisse prévoir un nombre suffisant de bénévoles !\n\nPlaces limitées\, inscrivez-vous dès maintenant par ici : https://bit.ly/atelier-Arson-11mai\n\nHâte de vous retrouver !
URL:https://niceavelo.org/event/atelier-mecanique-de-base/
LOCATION:Place Arson\, Nice
CATEGORIES:Atelier Sécurité Routière,Événement,Mai à Vélo
ATTACH;FMTTYPE=image/png:https://niceavelo.org/wp-content/uploads/2024/04/IG_STORY-2.png
END:VEVENT
BEGIN:VEVENT
DTSTART;TZID=Europe/Paris:20240517T200000
DTEND;TZID=Europe/Paris:20240517T220000
DTSTAMP:20260424T020939
CREATED:20240425T155744Z
LAST-MODIFIED:20240425T155744Z
UID:3638-1715976000-1715983200@niceavelo.org
SUMMARY:Ciné-débat : La Roue Libre
DESCRIPTION:France | 2021 | 0h 57min | Documentaire\nDe Sarah Denard\, Marion Valadier\nC’est l’histoire d’un groupe de femmes qui ont décidé de vaincre leurs peurs\, de se dépasser et d’apprendre à pédaler. Le vélo comme arme d’autonomie. Le vélo pour ne plus avoir peur de se faire agresser le soir ou tôt le matin. Le vélo pour ne plus dépendre de quelqu’un pour se rendre au travail\, pour faire ses courses\, mais aussi le vélo pour le plaisir. Il raconte comment un apprentissage\, comment un objet du quotidien\, peuvent redonner confiance et permettre cette impulsion pour sortir de chez soi\, prendre pied dans l’espace public et dans sa vie. \nProjection suivie d’une rencontre avec la réalisatrice Sarah Denard. Événement co-organisé par Cyclotrope et Nice à Vélo. \nInfos pratiques :\n\nRéservation obligatoire : https://bit.ly/tickets-LRL\nVendredi\, 17 mai – 20h à 22h\nCinéma Jean-Paul Belmondo (16\, Place Garibaldi – Nice)\nPrix libre et conscient
URL:https://niceavelo.org/event/cine-debat-la-roue-libre/
LOCATION:Cinéma Jean Paul Belmondo\, 16 Place Garibaldi\, Nice\, Alpes-Maritimes\, 06300\, France
CATEGORIES:Événement,Mai à Vélo,Soirée Ciné
ATTACH;FMTTYPE=image/jpeg:https://niceavelo.org/wp-content/uploads/2024/04/affiche_LRL_NAV.jpeg
END:VEVENT
BEGIN:VEVENT
DTSTART;TZID=Europe/Paris:20240526T110000
DTEND;TZID=Europe/Paris:20240526T160000
DTSTAMP:20260424T020939
CREATED:20240421T180234Z
LAST-MODIFIED:20240525T160943Z
UID:3610-1716721200-1716739200@niceavelo.org
SUMMARY:Vélo Maillot - Bike Ride
DESCRIPTION: Vélo Maillot : Balade jusqu’à Saint-Jean-Cap-Ferrat \n\n\n Date: Dimanche 26 Mai Heure de départ: 11h00 Lieu de rendez-vous: Place Ile de Beauté\, à coté de la piste cyclable\nNiveau : Intermédiaire/Difficile (Temps totale : 2h\, D+: 300m\, Distance totale : 20km\, 35% de voies cyclables) – Non conseillé aux enfants\n\nEmbarquez avec nous pour une balade à vélo vers les plages de Saint Jean Cap Ferrat ! \n\nNous vous proposons une balade de 20 km aller-retour le long de la côte\, offrant des vues à couper le souffle sur la Méditerranée. \nPique-nique sur la plage : Une fois arrivés à Saint-Jean-Cap-Ferrat\, nous profiterons d’un pique-nique convivial. Apportez votre propre repas pour partager un moment de détente et de convivialité avec les autres participants.\nCet événement est gratuit et ouvert à toutes et à tous !\n\n#MaiAVélo2024#ChallengeActivité\nItinéraire GéoVélo : https://link.geovelo.fr/LxM1Xwy7CpoA3eaf9
URL:https://niceavelo.org/event/velo-maillot-bike-ride/
CATEGORIES:Événement,Mai à Vélo,Sortie à vélo
ATTACH;FMTTYPE=image/png:https://niceavelo.org/wp-content/uploads/2024/04/5.png
END:VEVENT
BEGIN:VEVENT
DTSTART;TZID=Europe/Paris:20240529T113000
DTEND;TZID=Europe/Paris:20240529T133000
DTSTAMP:20260424T020939
CREATED:20240425T165951Z
LAST-MODIFIED:20240523T160145Z
UID:3660-1716982200-1716989400@niceavelo.org
SUMMARY:Pique-nique des familles à vélo
DESCRIPTION:🚲 Nice à Vélo est fier de soutenir activement la mobilité douce pour les familles dans notre ville. Nous avons constaté un réel engouement pour des initiatives telles que nos parades à vélo familiales (Kidical Mass Nice) et notre événement phare\, la Rue Aux Enfants. \nNous avons décidé d’organiser un pique-nique décontracté\, où les familles pourront se réunir dans une ambiance détendue. Ce sera l’occasion parfaite pour échanger des idées\, partager des astuces pratiques et discuter de ce qui fonctionne (ou ne fonctionne pas) en matière de déplacements à vélo avec les enfants. 🌳 \nCes moments d’échange informels sont essentiels pour construire une communauté cycliste forte et inclusive. En partageant nos expériences et nos connaissances\, nous pouvons à la fois trouver des solutions pratiques aux défis auxquels sont confrontées les familles qui se déplacent à vélo\, et renforcer les liens qui nous unissent. \n👨‍👩‍👧‍👦 Que vous utilisiez déjà le vélo pour vos déplacements familiaux ou que vous envisagiez de le faire\, rejoignez-nous pour un moment de convivialité\, de partage et d’inspiration pour une mobilité familiale plus douce et plus durable ! \nInfos pratiques :\n📅 Date : Mercredi\, 29 mai \n🕓 Heure : de 11h30 à 13h30 \n📍 Promenade du Paillon (Coulée Verte)\, au niveau de l’aire de jeux\, en face de la baleine \n Gratuit \n🧺 Chaque famille apporte son repas et est invité à apporter des fruits ou des boissons à partager \n♻️ Pensez à apporter vos gobelets réutilisables pour éviter le jetable ! \n🚦 Sécurité Routière : des équipements de visibilité seront distribués à nos petits cyclistes\, à la limite du stock disponible \n🙋🏻‍♀️ Responsable : Fernanda (organisatrice de la Kidical Mass Nice et co-responsable de la Rue Aux Enfants)
URL:https://niceavelo.org/event/pique-nique-des-familles-a-velo/
LOCATION:Promenade du Paillon
CATEGORIES:Événement,Mai à Vélo
ATTACH;FMTTYPE=image/png:https://niceavelo.org/wp-content/uploads/2024/04/IG_STORY.png
END:VEVENT
END:VCALENDAR