BEGIN:VCALENDAR
VERSION:2.0
PRODID:-//Nice à Vélo - ECPv6.15.11//NONSGML v1.0//EN
CALSCALE:GREGORIAN
METHOD:PUBLISH
X-ORIGINAL-URL:https://niceavelo.org
X-WR-CALDESC:Évènements pour Nice à Vélo
REFRESH-INTERVAL;VALUE=DURATION:PT1H
X-Robots-Tag:noindex
X-PUBLISHED-TTL:PT1H
BEGIN:VTIMEZONE
TZID:Europe/Paris
BEGIN:DAYLIGHT
TZOFFSETFROM:+0100
TZOFFSETTO:+0200
TZNAME:CEST
DTSTART:20240331T010000
END:DAYLIGHT
BEGIN:STANDARD
TZOFFSETFROM:+0200
TZOFFSETTO:+0100
TZNAME:CET
DTSTART:20241027T010000
END:STANDARD
BEGIN:DAYLIGHT
TZOFFSETFROM:+0100
TZOFFSETTO:+0200
TZNAME:CEST
DTSTART:20250330T010000
END:DAYLIGHT
BEGIN:STANDARD
TZOFFSETFROM:+0200
TZOFFSETTO:+0100
TZNAME:CET
DTSTART:20251026T010000
END:STANDARD
BEGIN:DAYLIGHT
TZOFFSETFROM:+0100
TZOFFSETTO:+0200
TZNAME:CEST
DTSTART:20260329T010000
END:DAYLIGHT
BEGIN:STANDARD
TZOFFSETFROM:+0200
TZOFFSETTO:+0100
TZNAME:CET
DTSTART:20261025T010000
END:STANDARD
END:VTIMEZONE
BEGIN:VEVENT
DTSTART;TZID=Europe/Paris:20250618T183000
DTEND;TZID=Europe/Paris:20250618T203000
DTSTAMP:20260421T105410
CREATED:20250616T100812Z
LAST-MODIFIED:20250616T101546Z
UID:4834-1750271400-1750278600@niceavelo.org
SUMMARY:Réunion mensuelle GT-Cyclabilité
DESCRIPTION:La prochaine réunion du GT Cyclabilité aura lieu le mercredi 18 juin\, de 18h30 à 20h30 ! \n📍 Lieu : Plage des Ponchettes \n📝 Ordre du jour : En cours de rédaction (RDV sur Framateam/Mattermost) \n✅ Avez-vous des sujets à proposer ? N’hésitez pas à nous les partager en amont ! \n🍉🥨 Et pour que ce moment soit encore plus convivial\, chacun peut apporter quelque chose à grignoter ou à boire. \n  \nComme toujours\, votre participation est précieuse et\, même si c’est juste pour découvrir ou écouter par curiosité\, vous êtes les bienvenus
URL:https://niceavelo.org/event/reunion-mensuelle-gt-cyclabilite/
CATEGORIES:Réunion Groupe de Travail
END:VEVENT
END:VCALENDAR