BEGIN:VCALENDAR
VERSION:2.0
PRODID:-//Nice à Vélo - ECPv6.15.11//NONSGML v1.0//EN
CALSCALE:GREGORIAN
METHOD:PUBLISH
X-WR-CALNAME:Nice à Vélo
X-ORIGINAL-URL:https://niceavelo.org
X-WR-CALDESC:Évènements pour Nice à Vélo
REFRESH-INTERVAL;VALUE=DURATION:PT1H
X-Robots-Tag:noindex
X-PUBLISHED-TTL:PT1H
BEGIN:VTIMEZONE
TZID:Europe/Paris
BEGIN:DAYLIGHT
TZOFFSETFROM:+0100
TZOFFSETTO:+0200
TZNAME:CEST
DTSTART:20230326T010000
END:DAYLIGHT
BEGIN:STANDARD
TZOFFSETFROM:+0200
TZOFFSETTO:+0100
TZNAME:CET
DTSTART:20231029T010000
END:STANDARD
BEGIN:DAYLIGHT
TZOFFSETFROM:+0100
TZOFFSETTO:+0200
TZNAME:CEST
DTSTART:20240331T010000
END:DAYLIGHT
BEGIN:STANDARD
TZOFFSETFROM:+0200
TZOFFSETTO:+0100
TZNAME:CET
DTSTART:20241027T010000
END:STANDARD
BEGIN:DAYLIGHT
TZOFFSETFROM:+0100
TZOFFSETTO:+0200
TZNAME:CEST
DTSTART:20250330T010000
END:DAYLIGHT
BEGIN:STANDARD
TZOFFSETFROM:+0200
TZOFFSETTO:+0100
TZNAME:CET
DTSTART:20251026T010000
END:STANDARD
END:VTIMEZONE
BEGIN:VEVENT
DTSTART;TZID=Europe/Paris:20240925T183000
DTEND;TZID=Europe/Paris:20240925T203000
DTSTAMP:20260422T014240
CREATED:20240912T165005Z
LAST-MODIFIED:20240912T165005Z
UID:3872-1727289000-1727296200@niceavelo.org
SUMMARY:Réunion Groupe de Travail
DESCRIPTION:Avis aux motivés ! 💪 \nLa prochaine réunion du groupe de travail Cyclabilité 🚲 est prévu le 25 septembre à 18h30\, chez Elisa. \nA l’ordre du jour : \n➡️ Définition des objectifs de l’année et d’un budget en lien\n➡️ Préparation de la démarche envers la métropole pour la réalisation de la piste cyclable prévue dans le projet Jeanne d’Arc\n➡️ Les doubles sens cyclables … \n📍 Demandez-nous l’adresse (par mail 📩 asso@niceavelo.org).
URL:https://niceavelo.org/event/reunion-groupe-de-travail/
CATEGORIES:Réunion Groupe de Travail
END:VEVENT
END:VCALENDAR