BEGIN:VCALENDAR
VERSION:2.0
PRODID:-//Nice à Vélo - ECPv6.15.11//NONSGML v1.0//EN
CALSCALE:GREGORIAN
METHOD:PUBLISH
X-ORIGINAL-URL:https://niceavelo.org
X-WR-CALDESC:Évènements pour Nice à Vélo
REFRESH-INTERVAL;VALUE=DURATION:PT1H
X-Robots-Tag:noindex
X-PUBLISHED-TTL:PT1H
BEGIN:VTIMEZONE
TZID:Europe/Paris
BEGIN:DAYLIGHT
TZOFFSETFROM:+0100
TZOFFSETTO:+0200
TZNAME:CEST
DTSTART:20230326T010000
END:DAYLIGHT
BEGIN:STANDARD
TZOFFSETFROM:+0200
TZOFFSETTO:+0100
TZNAME:CET
DTSTART:20231029T010000
END:STANDARD
BEGIN:DAYLIGHT
TZOFFSETFROM:+0100
TZOFFSETTO:+0200
TZNAME:CEST
DTSTART:20240331T010000
END:DAYLIGHT
BEGIN:STANDARD
TZOFFSETFROM:+0200
TZOFFSETTO:+0100
TZNAME:CET
DTSTART:20241027T010000
END:STANDARD
BEGIN:DAYLIGHT
TZOFFSETFROM:+0100
TZOFFSETTO:+0200
TZNAME:CEST
DTSTART:20250330T010000
END:DAYLIGHT
BEGIN:STANDARD
TZOFFSETFROM:+0200
TZOFFSETTO:+0100
TZNAME:CET
DTSTART:20251026T010000
END:STANDARD
END:VTIMEZONE
BEGIN:VEVENT
DTSTART;TZID=Europe/Paris:20240122T180000
DTEND;TZID=Europe/Paris:20240122T200000
DTSTAMP:20260422T132959
CREATED:20240113T152034Z
LAST-MODIFIED:20240113T160523Z
UID:3272-1705946400-1705953600@niceavelo.org
SUMMARY:« La Joyeuse Vadrouille » - Ciné-Débat cyclo-voyage en Famille
DESCRIPTION:De Bordeaux à Genève\, 1000 km à vélo en famille. Lors de l’été 2022\, Amandine\, Tim et leur fille Lou sont partis sillonner la France pendant deux mois. Ce voyage à vélo aura été pour eux une expérience sur la vie en plein air\, la parentalité et la transmission de valeurs. \nNous sommes heureux d’organiser la projection du film La Joyeuse Vadrouille\, suivie d’un temps d’échange avec le réalisateur du film Timothée Buisson\, en compagnie de Camille Boiardi-Franchi\, adepte aussi des cyclo-voyages et auteure du livre “À Vélo en famille”. \nInformations pratiques : \n🎟️ Réservation conseillée : www.bit.ly/tickets-LJV \n📆 Date : Lundi\, 22 janvier 2024 – de 18h à 20h \n📍 Lieu : LA BASE\, 29 Route de Turin – Nice \n🚲 Rejoignez-nous à vélo ou en 🚊 tramway (arrêt Vauban – ligne 1). \n✨ Les enfants sont les bienvenus ✨ \nBande annonce
URL:https://niceavelo.org/event/la-joyeuse-vadrouille-cine-debat-cyclovoyage-en-famille/
LOCATION:La Base\, 29 Route de Turin\, Nice\, France
CATEGORIES:Événement,Soirée Ciné
ATTACH;FMTTYPE=image/jpeg:https://niceavelo.org/wp-content/uploads/2024/01/LJV_NAV_affiche-100.jpg
END:VEVENT
END:VCALENDAR