BEGIN:VCALENDAR
VERSION:2.0
PRODID:-//Nice à Vélo - ECPv6.15.11//NONSGML v1.0//EN
CALSCALE:GREGORIAN
METHOD:PUBLISH
X-ORIGINAL-URL:https://niceavelo.org
X-WR-CALDESC:Évènements pour Nice à Vélo
REFRESH-INTERVAL;VALUE=DURATION:PT1H
X-Robots-Tag:noindex
X-PUBLISHED-TTL:PT1H
BEGIN:VTIMEZONE
TZID:Europe/Paris
BEGIN:DAYLIGHT
TZOFFSETFROM:+0100
TZOFFSETTO:+0200
TZNAME:CEST
DTSTART:20240331T010000
END:DAYLIGHT
BEGIN:STANDARD
TZOFFSETFROM:+0200
TZOFFSETTO:+0100
TZNAME:CET
DTSTART:20241027T010000
END:STANDARD
BEGIN:DAYLIGHT
TZOFFSETFROM:+0100
TZOFFSETTO:+0200
TZNAME:CEST
DTSTART:20250330T010000
END:DAYLIGHT
BEGIN:STANDARD
TZOFFSETFROM:+0200
TZOFFSETTO:+0100
TZNAME:CET
DTSTART:20251026T010000
END:STANDARD
BEGIN:DAYLIGHT
TZOFFSETFROM:+0100
TZOFFSETTO:+0200
TZNAME:CEST
DTSTART:20260329T010000
END:DAYLIGHT
BEGIN:STANDARD
TZOFFSETFROM:+0200
TZOFFSETTO:+0100
TZNAME:CET
DTSTART:20261025T010000
END:STANDARD
END:VTIMEZONE
BEGIN:VEVENT
DTSTART;TZID=Europe/Paris:20250218T180000
DTEND;TZID=Europe/Paris:20250218T200000
DTSTAMP:20260421T202148
CREATED:20250208T171825Z
LAST-MODIFIED:20250213T102659Z
UID:4347-1739901600-1739908800@niceavelo.org
SUMMARY:Ciné-Débat : Les roues du possible
DESCRIPTION:Combien de fois avez-vous entendu\, au sujet d’un nouvel aménagement cyclable\, des affirmations du style « Le vélo\, c’est bien quand on est jeune et sportif! Mais les personnes âgées\, et celles en situation de handicap\, elles vont faire comment? ». Pourtant\, la réalité de notre dépendance à la voiture individuelle est loin d’être synonyme d’accessibilité universelle… A travers deux court métrages\, Praxie Design propose une vision radicalement différente du sujet\, et nous invite à faire un pas de côté: et si\, au contraire\, le vélo était un moyen d’ouvrir les possibles pour les déplacements quotidiens et l’autonomie de toutes et tous ? \nL’épisode 1\, Les roues du possible\, donne la parole à des personnes en situation de handicap qui utilisent le vélo au quotidien. Chacun à leur manière\, Myriam et Thomas nous montrent comment il et elle sont passé.e.s\, dans leur rapport au vélo\, d’une impossibilité supposée à un autre possible\, qu’il leur a fallu inventer. \nL’épisode 2\,  A vélo toute la vie\, offre un nouveau regard sur la question de la pratique du vélo passé un certain âge. Les vieux\, les séniors\, les retraités… On les nomme comme on veut\, mais contrairement aux idées reçues\, on comprend à travers leurs témoignages que le vélo est un moyen de liberté et un outil de déplacement efficace même quand le corps se fragilise. \nNous aussi\, nous sommes convaincu.e.s que dans la quête d’une ville plus inclusive et plus conviviale\, les aménagements cyclables et le vélo sont des alliés de poids. Et vous\, qu’en pensez-vous ? \nPour le savoir\, notre antenne Cagnes à Vélo vous invite à une séance docu-débat le 18 février à la Micro-Folie de Cagnes-sur-Mer pour une projection de ces courts métrages\, suivie d’un temps d’échange sur les thématiques abordées dans les 2 épisodes. \nEntrée gratuite\, réservation conseillée au 04.89.22.40.79 ou à micro-folie@cagnes.fr \nAgenda: \n\n18:00 Accueil\n18:30 Projection des 2 épisodes\n18h45 Discussion\n19h45 Clôture\n\nMusée Numérique Micro-Folie – 6\, Avenue de Verdun 06800 Cagnes-sur-Mer \n 
URL:https://niceavelo.org/event/cine-debat-les-roues-du-possible/
LOCATION:Musée numérique Micro-Folie\, 6 avenue de Verdun\, Cagnes-sur-Mer\, 06800
CATEGORIES:Événement,Soirée Ciné
ATTACH;FMTTYPE=image/jpeg:https://niceavelo.org/wp-content/uploads/2025/01/cover.jpg
END:VEVENT
END:VCALENDAR