BEGIN:VCALENDAR
VERSION:2.0
PRODID:-//Nice à Vélo - ECPv6.15.11//NONSGML v1.0//EN
CALSCALE:GREGORIAN
METHOD:PUBLISH
X-WR-CALNAME:Nice à Vélo
X-ORIGINAL-URL:https://niceavelo.org
X-WR-CALDESC:Évènements pour Nice à Vélo
REFRESH-INTERVAL;VALUE=DURATION:PT1H
X-Robots-Tag:noindex
X-PUBLISHED-TTL:PT1H
BEGIN:VTIMEZONE
TZID:Europe/Paris
BEGIN:DAYLIGHT
TZOFFSETFROM:+0100
TZOFFSETTO:+0200
TZNAME:CEST
DTSTART:20240331T010000
END:DAYLIGHT
BEGIN:STANDARD
TZOFFSETFROM:+0200
TZOFFSETTO:+0100
TZNAME:CET
DTSTART:20241027T010000
END:STANDARD
BEGIN:DAYLIGHT
TZOFFSETFROM:+0100
TZOFFSETTO:+0200
TZNAME:CEST
DTSTART:20250330T010000
END:DAYLIGHT
BEGIN:STANDARD
TZOFFSETFROM:+0200
TZOFFSETTO:+0100
TZNAME:CET
DTSTART:20251026T010000
END:STANDARD
BEGIN:DAYLIGHT
TZOFFSETFROM:+0100
TZOFFSETTO:+0200
TZNAME:CEST
DTSTART:20260329T010000
END:DAYLIGHT
BEGIN:STANDARD
TZOFFSETFROM:+0200
TZOFFSETTO:+0100
TZNAME:CET
DTSTART:20261025T010000
END:STANDARD
END:VTIMEZONE
BEGIN:VEVENT
DTSTART;TZID=Europe/Paris:20250508T000000
DTEND;TZID=Europe/Paris:20250508T170000
DTSTAMP:20260421T120203
CREATED:20250427T215747Z
LAST-MODIFIED:20250508T192559Z
UID:4718-1746662400-1746723600@niceavelo.org
SUMMARY:Mai à Vélo - Balade Vélo/Fromage à la Clave de l'Estéron
DESCRIPTION:Dans le cadre de Mai à Vélo\, nous vous invitons en balade le 8 mai 🚲🚴🚴‍♀️🚴🚴‍♂️ \nNice à Vélo t’invite en balade le 8 mai 🚲🚴🚴‍♀️🚴🚴‍♂️ \nAu programme : on pédale tranquillement le long du Var jusqu’à la Clave de l’Esteron et ses belles plages de cailloux pour un pique-nique\, au retour arrêt par la fameuse fromagerie de l’Esteron ☀️🏝️🧀 \n65km aller-retour\, 200m de dénivelé bien répartis\, et on s’adapte au rythme de celleux qui roulent le moins vite ! \nPrévoir : \n\nun pique-nique\n1\,5L d’eau minimum (point d’eau disponible à l’embouchure de l’Esteron)\ncasquette\nlunettes de soleil\nsac de provisions pour les amoureux.ses de fromage\nchaussures confortables\ncrème solaire\ncuissard ou selle rembourrée\nkit crevaison et/ou chambre à air de secours\n\nDépart de Nice : Promenade des Anglais devant le Negresco à 9h \nDépart Ouest : Pont Napoléon III (côté Saint-Laurent) à 9h30 \nBalade autogérée : on roule ensemble dans la convivialité\, mais chacun·e est responsable de sa propre sécurité et de son autonomie. \nPour plus d’infos\, rejoignez le groupe Whatsapp de l’événement.
URL:https://niceavelo.org/event/balade-velo-clave-de-lesteron/
CATEGORIES:Événement,Mai à Vélo,Sortie à vélo
ATTACH;FMTTYPE=image/jpeg:https://niceavelo.org/wp-content/uploads/2025/04/Lac-du-Broc-scaled.jpeg
END:VEVENT
BEGIN:VEVENT
DTSTART;TZID=Europe/Paris:20250517T093000
DTEND;TZID=Europe/Paris:20250517T113000
DTSTAMP:20260421T120203
CREATED:20250414T180427Z
LAST-MODIFIED:20250429T084957Z
UID:4620-1747474200-1747481400@niceavelo.org
SUMMARY:Festival Vélo Effet Mer – "Vélo et Yoga" Balade à vélo en bord de mer et Yoga à Nice
DESCRIPTION:Nice à Vélo vous propose une sortie à vélo accessible à toutes et tous\, le long de l’EuroVélo 8\, connue aussi sous le nom de Véloroute de la Méditerranée\, qui relie l’Espagne à la Grèce.\nUn parcours facile\, à rythme tranquille\, pour profiter ensemble du littoral et (re)découvrir le plaisir de pédaler au grand air. \nEt pour prolonger ce moment de bien-être\, la balade se terminera par une séance de yoga en plein air\, face à la mer. \nPas besoin d’être expert·e : il suffit d’avoir envie de respirer\, de bouger\, et de se détendre. \n💸 Entrée gratuite\n🐱 Ouvert à toutes et tous ! \n📅 Quand ? le samedi 17 mai à 9h30📍 Où ?  Promenade des Anglais/Gambetta. Piste cyclable de bord de mer\, EuroVélo8 – Nice🔗 Lien d’inscription (obligatoire\, pour une meilleure organisation) :  HelloAsso
URL:https://niceavelo.org/event/festival-velo-effet-mer-sortie-velo-yoga-a-nice/
CATEGORIES:Événement,Mai à Vélo,Sortie à vélo
ATTACH;FMTTYPE=image/jpeg:https://niceavelo.org/wp-content/uploads/2025/04/Post-carre-Instagram-Facebook.jpg
END:VEVENT
END:VCALENDAR