BEGIN:VCALENDAR
VERSION:2.0
PRODID:-//Nice à Vélo - ECPv6.15.11//NONSGML v1.0//EN
CALSCALE:GREGORIAN
METHOD:PUBLISH
X-WR-CALNAME:Nice à Vélo
X-ORIGINAL-URL:https://niceavelo.org
X-WR-CALDESC:Évènements pour Nice à Vélo
REFRESH-INTERVAL;VALUE=DURATION:PT1H
X-Robots-Tag:noindex
X-PUBLISHED-TTL:PT1H
BEGIN:VTIMEZONE
TZID:Europe/Paris
BEGIN:DAYLIGHT
TZOFFSETFROM:+0100
TZOFFSETTO:+0200
TZNAME:CEST
DTSTART:20230326T010000
END:DAYLIGHT
BEGIN:STANDARD
TZOFFSETFROM:+0200
TZOFFSETTO:+0100
TZNAME:CET
DTSTART:20231029T010000
END:STANDARD
BEGIN:DAYLIGHT
TZOFFSETFROM:+0100
TZOFFSETTO:+0200
TZNAME:CEST
DTSTART:20240331T010000
END:DAYLIGHT
BEGIN:STANDARD
TZOFFSETFROM:+0200
TZOFFSETTO:+0100
TZNAME:CET
DTSTART:20241027T010000
END:STANDARD
BEGIN:DAYLIGHT
TZOFFSETFROM:+0100
TZOFFSETTO:+0200
TZNAME:CEST
DTSTART:20250330T010000
END:DAYLIGHT
BEGIN:STANDARD
TZOFFSETFROM:+0200
TZOFFSETTO:+0100
TZNAME:CET
DTSTART:20251026T010000
END:STANDARD
END:VTIMEZONE
BEGIN:VEVENT
DTSTART;TZID=Europe/Paris:20240531T190000
DTEND;TZID=Europe/Paris:20240531T230000
DTSTAMP:20260422T060743
CREATED:20240507T164101Z
LAST-MODIFIED:20240523T155913Z
UID:3684-1717182000-1717196400@niceavelo.org
SUMMARY:DJ SET ON THE BIKE
DESCRIPTION:Cette année\, nous terminons le mois de mai avec un peu de folie ! \n\nPour célébrer ce mois exceptionnel\, nous vous invitons à une parade à vélo en musique\, animée par le DJ set  de DJ BAB’s\, qui fera vibrer vos mollets !\n\nLa soirée se poursuivra au 109 (89 route de Turin)\, où nous pourrons profiter et danser ensemble jusqu’au bout de la nuit ! \n\n Vendredi 31 mai Rauba Capeu (#ILoveNice) – Nice19h00 : RDV à Rauba Capeu (#ILoveNice)19h30 : Départ !!!20h30 : Arrivée au 109 (89\, route de Turin)00h00 : Clôture02h00 : Fermeture des portes\n\n– Entrée gratuite– Ouvert à toutes et tous– Bar et snacks (aussi végan bien sur !) sur place – nous acceptons les paiements en espèce ou par HelloAsso !– Stand adhésion Nice à Vélo– Balade accompagnée et non encadrée. Sous la responsabilité de chaque participant. \n\nAdhérez à l’association Nice à Vélo et ensemble\, œuvrons pour une ville dans laquelle se déplacer à vélo est un choix évident\, sûr et pratique.
URL:https://niceavelo.org/event/dj-set-on-the-bike-4/
LOCATION:Rauba Capeu\, Quai Rauba Capeu\, Nice\, 06300\, France
CATEGORIES:Vélorution
ATTACH;FMTTYPE=image/png:https://niceavelo.org/wp-content/uploads/2024/05/InstaPubli_velorution_310524.png
END:VEVENT
END:VCALENDAR