BEGIN:VCALENDAR
VERSION:2.0
PRODID:-//Nice à Vélo - ECPv6.15.11//NONSGML v1.0//EN
CALSCALE:GREGORIAN
METHOD:PUBLISH
X-ORIGINAL-URL:https://niceavelo.org
X-WR-CALDESC:Évènements pour Nice à Vélo
REFRESH-INTERVAL;VALUE=DURATION:PT1H
X-Robots-Tag:noindex
X-PUBLISHED-TTL:PT1H
BEGIN:VTIMEZONE
TZID:Europe/Paris
BEGIN:DAYLIGHT
TZOFFSETFROM:+0100
TZOFFSETTO:+0200
TZNAME:CEST
DTSTART:20210328T010000
END:DAYLIGHT
BEGIN:STANDARD
TZOFFSETFROM:+0200
TZOFFSETTO:+0100
TZNAME:CET
DTSTART:20211031T010000
END:STANDARD
BEGIN:DAYLIGHT
TZOFFSETFROM:+0100
TZOFFSETTO:+0200
TZNAME:CEST
DTSTART:20220327T010000
END:DAYLIGHT
BEGIN:STANDARD
TZOFFSETFROM:+0200
TZOFFSETTO:+0100
TZNAME:CET
DTSTART:20221030T010000
END:STANDARD
BEGIN:DAYLIGHT
TZOFFSETFROM:+0100
TZOFFSETTO:+0200
TZNAME:CEST
DTSTART:20230326T010000
END:DAYLIGHT
BEGIN:STANDARD
TZOFFSETFROM:+0200
TZOFFSETTO:+0100
TZNAME:CET
DTSTART:20231029T010000
END:STANDARD
END:VTIMEZONE
BEGIN:VEVENT
DTSTART;TZID=Europe/Paris:20221217T180000
DTEND;TZID=Europe/Paris:20221217T230000
DTSTAMP:20260423T083304
CREATED:20221210T180826Z
LAST-MODIFIED:20221216T180313Z
UID:2446-1671300000-1671318000@niceavelo.org
SUMMARY:Vélorution (+ Diner) de Noël
DESCRIPTION:La Vélorution se mettra aux couleurs de Noël le samedi 17 décembre prochain. \nRendez-vous\, devant La Base (29 route de Turin)\, pour un départ à 18h. \nLe cortège se mettra en route pour déambuler joyeusement dans la ville au son de la magie de Noël. \nLe parcours prendra fin à La Base (29 route de Turin)\, où on se retrouvera pour un moment de convivialité et terminer l’année tous ensemble en partageant un apéro dinatoire festif\, ouvert à tous\, adhérents et sympathisants de l’association ! \nPour que cette balade festive soit encore plus belle\, venez déguisé.e.s et pensez à décorer votre vélo pour l’occasion. \nLa Vélorution est ouverte à toutes les mobilités actives et à tous les âges. Les personnes habituellement peu à l’aise à vélo en ville pourront venir y pédaler en toute sécurité. \nPensez à vos lampes de vélo et vos sonnettes. \nPlus que jamais\, votre participation aux Vélorutions est essentielle afin d’aider les organisations cyclistes à porter la cause des villes cyclables et marchables. \nPour ceux et celles qui souhaitent déposer des choses à manger ou à boire avant la balade\, rendez-vous à partir de 17h30 à La Base (29 route de Turin).
URL:https://niceavelo.org/event/velorution-diner-de-noel/
LOCATION:Les Diables Bleus\, 29 Route de Turin\, Nice\, 06000\, France
CATEGORIES:Vélorution
ATTACH;FMTTYPE=image/jpeg:https://niceavelo.org/wp-content/uploads/2022/12/image683.jpg
END:VEVENT
END:VCALENDAR