BEGIN:VCALENDAR
VERSION:2.0
PRODID:-//Nice à Vélo - ECPv6.15.11//NONSGML v1.0//EN
CALSCALE:GREGORIAN
METHOD:PUBLISH
X-WR-CALNAME:Nice à Vélo
X-ORIGINAL-URL:https://niceavelo.org
X-WR-CALDESC:Évènements pour Nice à Vélo
REFRESH-INTERVAL;VALUE=DURATION:PT1H
X-Robots-Tag:noindex
X-PUBLISHED-TTL:PT1H
BEGIN:VTIMEZONE
TZID:Europe/Paris
BEGIN:DAYLIGHT
TZOFFSETFROM:+0100
TZOFFSETTO:+0200
TZNAME:CEST
DTSTART:20220327T010000
END:DAYLIGHT
BEGIN:STANDARD
TZOFFSETFROM:+0200
TZOFFSETTO:+0100
TZNAME:CET
DTSTART:20221030T010000
END:STANDARD
BEGIN:DAYLIGHT
TZOFFSETFROM:+0100
TZOFFSETTO:+0200
TZNAME:CEST
DTSTART:20230326T010000
END:DAYLIGHT
BEGIN:STANDARD
TZOFFSETFROM:+0200
TZOFFSETTO:+0100
TZNAME:CET
DTSTART:20231029T010000
END:STANDARD
BEGIN:DAYLIGHT
TZOFFSETFROM:+0100
TZOFFSETTO:+0200
TZNAME:CEST
DTSTART:20240331T010000
END:DAYLIGHT
BEGIN:STANDARD
TZOFFSETFROM:+0200
TZOFFSETTO:+0100
TZNAME:CET
DTSTART:20241027T010000
END:STANDARD
END:VTIMEZONE
BEGIN:VEVENT
DTSTART;TZID=Europe/Paris:20230127T183000
DTEND;TZID=Europe/Paris:20230127T203000
DTSTAMP:20260423T070144
CREATED:20230121T085015Z
LAST-MODIFIED:20230122T183848Z
UID:2491-1674844200-1674851400@niceavelo.org
SUMMARY:Vélorution M12 !
DESCRIPTION:Vendredi 27 janvier 2023\, rendez-vous à Rauba Capeu au #IloveNice pour notre VÉLORUTION mensuelle !!! \nNous nous retrouverons à partir de 18h30 pour un départ à 19h00. \nBalade milifestive !\nLe but de cette vélorution est de mettre en avant l’utilisation des M12 et de demander leurs déploiement en ville. \nParcours d’environ une heure\, accessible à toutes et tous.  \nNous conclurons la balade par un apéro. \nVenez nombreux !
URL:https://niceavelo.org/event/velorution-3/
LOCATION:Rauba Capeu\, Quai Rauba Capeu\, Nice\, 06300\, France
CATEGORIES:Vélorution
ATTACH;FMTTYPE=image/jpeg:https://niceavelo.org/wp-content/uploads/2023/01/WhatsApp-Image-2023-01-22-at-18.46.58.jpeg
END:VEVENT
END:VCALENDAR