BEGIN:VCALENDAR
VERSION:2.0
PRODID:-//Nice à Vélo - ECPv6.15.11//NONSGML v1.0//EN
CALSCALE:GREGORIAN
METHOD:PUBLISH
X-WR-CALNAME:Nice à Vélo
X-ORIGINAL-URL:https://niceavelo.org
X-WR-CALDESC:Évènements pour Nice à Vélo
REFRESH-INTERVAL;VALUE=DURATION:PT1H
X-Robots-Tag:noindex
X-PUBLISHED-TTL:PT1H
BEGIN:VTIMEZONE
TZID:Europe/Paris
BEGIN:DAYLIGHT
TZOFFSETFROM:+0100
TZOFFSETTO:+0200
TZNAME:CEST
DTSTART:20220327T010000
END:DAYLIGHT
BEGIN:STANDARD
TZOFFSETFROM:+0200
TZOFFSETTO:+0100
TZNAME:CET
DTSTART:20221030T010000
END:STANDARD
BEGIN:DAYLIGHT
TZOFFSETFROM:+0100
TZOFFSETTO:+0200
TZNAME:CEST
DTSTART:20230326T010000
END:DAYLIGHT
BEGIN:STANDARD
TZOFFSETFROM:+0200
TZOFFSETTO:+0100
TZNAME:CET
DTSTART:20231029T010000
END:STANDARD
BEGIN:DAYLIGHT
TZOFFSETFROM:+0100
TZOFFSETTO:+0200
TZNAME:CEST
DTSTART:20240331T010000
END:DAYLIGHT
BEGIN:STANDARD
TZOFFSETFROM:+0200
TZOFFSETTO:+0100
TZNAME:CET
DTSTART:20241027T010000
END:STANDARD
END:VTIMEZONE
BEGIN:VEVENT
DTSTART;TZID=Europe/Paris:20230331T180000
DTEND;TZID=Europe/Paris:20230331T230000
DTSTAMP:20260423T025408
CREATED:20230218T123608Z
LAST-MODIFIED:20230320T092038Z
UID:2529-1680285600-1680303600@niceavelo.org
SUMMARY:Vélorution et DJ SET
DESCRIPTION:VENDREDI 31 MARS : VELORUTION & DJ SET\n19h-20h : Vélorution avec DJ SET à travers les rues de la ville.\n http://Facebook.com/iambabs\n http://SoundCloud.com/djbabs\n20h-23h: Soirée à LA BASE (29 route de Turin).\nEntrée libre. \nBuvette et snack sur place.*\n* P.A.F libre pour les non-adhérents de l’association Nice à Vélo.\n* Payement en espèce uniquement\, pensez à retirer avant de venir !
URL:https://niceavelo.org/event/velorution-de-printemps-avec-dj-babs/
LOCATION:Esplanade De La Bourgada\, Esplanade De La Bourgada\, Nice\, France
CATEGORIES:Vélorution
ATTACH;FMTTYPE=image/jpeg:https://niceavelo.org/wp-content/uploads/2023/02/336655511_606851504638799_3804301122170628486_n.jpg
END:VEVENT
END:VCALENDAR