BEGIN:VCALENDAR
VERSION:2.0
PRODID:-//Nice à Vélo - ECPv6.15.11//NONSGML v1.0//EN
CALSCALE:GREGORIAN
METHOD:PUBLISH
X-WR-CALNAME:Nice à Vélo
X-ORIGINAL-URL:https://niceavelo.org
X-WR-CALDESC:Évènements pour Nice à Vélo
REFRESH-INTERVAL;VALUE=DURATION:PT1H
X-Robots-Tag:noindex
X-PUBLISHED-TTL:PT1H
BEGIN:VTIMEZONE
TZID:Europe/Paris
BEGIN:DAYLIGHT
TZOFFSETFROM:+0100
TZOFFSETTO:+0200
TZNAME:CEST
DTSTART:20220327T010000
END:DAYLIGHT
BEGIN:STANDARD
TZOFFSETFROM:+0200
TZOFFSETTO:+0100
TZNAME:CET
DTSTART:20221030T010000
END:STANDARD
BEGIN:DAYLIGHT
TZOFFSETFROM:+0100
TZOFFSETTO:+0200
TZNAME:CEST
DTSTART:20230326T010000
END:DAYLIGHT
BEGIN:STANDARD
TZOFFSETFROM:+0200
TZOFFSETTO:+0100
TZNAME:CET
DTSTART:20231029T010000
END:STANDARD
BEGIN:DAYLIGHT
TZOFFSETFROM:+0100
TZOFFSETTO:+0200
TZNAME:CEST
DTSTART:20240331T010000
END:DAYLIGHT
BEGIN:STANDARD
TZOFFSETFROM:+0200
TZOFFSETTO:+0100
TZNAME:CET
DTSTART:20241027T010000
END:STANDARD
END:VTIMEZONE
BEGIN:VEVENT
DTSTART;TZID=Europe/Paris:20230825T190000
DTEND;TZID=Europe/Paris:20230825T210000
DTSTAMP:20260422T205611
CREATED:20230703T145302Z
LAST-MODIFIED:20230718T200543Z
UID:2870-1692990000-1692997200@niceavelo.org
SUMMARY:Vélorution Août
DESCRIPTION:La vélorution d’août 2023 aura lieu le vendredi 25 août. Plus d’informations à venir.
URL:https://niceavelo.org/event/velorution-aout/
LOCATION:Rauba Capeu\, Quai Rauba Capeu\, Nice\, 06300\, France
CATEGORIES:Événement,Vélorution
ATTACH;FMTTYPE=image/png:https://niceavelo.org/wp-content/uploads/2023/07/Velorution-Aout-2023-INSTA.png
END:VEVENT
END:VCALENDAR