BEGIN:VCALENDAR
VERSION:2.0
PRODID:-//Nice à Vélo - ECPv6.15.11//NONSGML v1.0//EN
CALSCALE:GREGORIAN
METHOD:PUBLISH
X-ORIGINAL-URL:https://niceavelo.org
X-WR-CALDESC:Évènements pour Nice à Vélo
REFRESH-INTERVAL;VALUE=DURATION:PT1H
X-Robots-Tag:noindex
X-PUBLISHED-TTL:PT1H
BEGIN:VTIMEZONE
TZID:Europe/Paris
BEGIN:DAYLIGHT
TZOFFSETFROM:+0100
TZOFFSETTO:+0200
TZNAME:CEST
DTSTART:20240331T010000
END:DAYLIGHT
BEGIN:STANDARD
TZOFFSETFROM:+0200
TZOFFSETTO:+0100
TZNAME:CET
DTSTART:20241027T010000
END:STANDARD
BEGIN:DAYLIGHT
TZOFFSETFROM:+0100
TZOFFSETTO:+0200
TZNAME:CEST
DTSTART:20250330T010000
END:DAYLIGHT
BEGIN:STANDARD
TZOFFSETFROM:+0200
TZOFFSETTO:+0100
TZNAME:CET
DTSTART:20251026T010000
END:STANDARD
BEGIN:DAYLIGHT
TZOFFSETFROM:+0100
TZOFFSETTO:+0200
TZNAME:CEST
DTSTART:20260329T010000
END:DAYLIGHT
BEGIN:STANDARD
TZOFFSETFROM:+0200
TZOFFSETTO:+0100
TZNAME:CET
DTSTART:20261025T010000
END:STANDARD
END:VTIMEZONE
BEGIN:VEVENT
DTSTART;TZID=Europe/Paris:20250427T103000
DTEND;TZID=Europe/Paris:20250427T170000
DTSTAMP:20260421T202113
CREATED:20250422T130718Z
LAST-MODIFIED:20250422T131158Z
UID:4689-1745749800-1745773200@niceavelo.org
SUMMARY:Assemblée Générale Ordinaire de Nice à Vélo
DESCRIPTION:Chers adhérents et sympathisants\,\n\n\n  \nNous vous informons que l’assemblée générale ordinaire de notre association Nice à Vélo est fixée au : \n  \nDimanche 27 avril 2025 à 10h30 \n  \nElle se déroulera en présentiel au local du collectif Les Diables Bleus (également connu sous le nom « La BASE ») qui se situe au 29 route de Turin à Nice (quartier Saint-Jean d’Angély). L’AG sera suivie d’un moment convivial autour d’un pique-nique et d’ateliers participatifs dans le jardin Saint-Jean d’Angély. \n  \nCette assemblée générale ordinaire sera notamment l’occasion de soumettre à votre approbation les rapports financier et d’activité de l’exercice 2024 et de vous inviter à participer aux orientations stratégiques de l’association. \n  \nSeules les personnes à jour de la cotisation 2025 pourront voter les décisions qui seront prises lors de cette AG. Vous pouvez vous en acquitter dès à présent sur notre site internet (niceavelo.org/adhesion)\, ou au plus tard\, le jour de l’AG. Pour rappel\, la période d’adhésion a été modifiée par l’assemblée générale extraordinaire du 26 octobre 2024. Si vous avez adhéré ou renouvelé votre adhésion après le 1er septembre 2024\, vous êtes à jour. En cas de doute sur votre situation\, envoyez un message à asso@niceavelo.org. \n  \nEn application de l’article 14 des statuts sur la partie ordinaire de l’assemblée générale\, les décisions sont prises à la majorité simple des voix des membres présents ou représentés dans la limite de 2 pouvoirs par personne. L’Assemblée Générale délibère alors valablement\, sur son ordre du jour\, quel que soit le nombre des adhérents présents ou représentés. \n  \nPour cette raison\, nous souhaitons vivement votre participation. Dans le cas où vous ne pourriez pas assister à cette Assemblée Générale Ordinaire\, nous vous encourageons\, comme vous l’y autorisent les Statuts de l’Association\, à donner à votre convenance pouvoir à un autre adhérent ou à votre conjoint. Chaque participant peut être porteur de deux procurations maximum : pensez à vous assurer que la personne à qui vous confiez votre pouvoir n’a pas déjà atteint cette limite. Pour voter\, ce dernier doit être muni d’une procuration dûment remplie et signée selon le modèle joint. \n  \nNous comptons sur votre présence pour le succès de cette assemblée générale. \nORDRE DU JOUR : \n10h30 : Accueil des participants\nDésignation d’un(e) secrétaire de séance\nSignature de la feuille de présence\n10h45 : Introduction\n10h50 : Présentation des rapports d’activité et financier de l’année 2024\n11h40 : Vote d’approbation des rapports financier et d’activité de l’année 2024 et vote de la décision\nd’affectation du résultat\n11h45 : Présentation des projets en cours et du budget prévisionnel 2025\n11h50 : Renouvellement des mandats d’administrateurs et présentation des candidats à\nl’administration\n12h00 : Clôture de l’Assemblée générale et partage d’un moment convivial\nProposition d’ateliers de réflexions stratégiques pour l’association durant le pique-nique
URL:https://niceavelo.org/event/ago-de-nice-a-velo/
LOCATION:La Base\, 29 Route de Turin\, Nice\, France
CATEGORIES:AG
END:VEVENT
END:VCALENDAR