BEGIN:VCALENDAR
VERSION:2.0
PRODID:-//Nice à Vélo - ECPv6.15.11//NONSGML v1.0//EN
CALSCALE:GREGORIAN
METHOD:PUBLISH
X-ORIGINAL-URL:https://niceavelo.org
X-WR-CALDESC:Évènements pour Nice à Vélo
REFRESH-INTERVAL;VALUE=DURATION:PT1H
X-Robots-Tag:noindex
X-PUBLISHED-TTL:PT1H
BEGIN:VTIMEZONE
TZID:Europe/Paris
BEGIN:DAYLIGHT
TZOFFSETFROM:+0100
TZOFFSETTO:+0200
TZNAME:CEST
DTSTART:20230326T010000
END:DAYLIGHT
BEGIN:STANDARD
TZOFFSETFROM:+0200
TZOFFSETTO:+0100
TZNAME:CET
DTSTART:20231029T010000
END:STANDARD
BEGIN:DAYLIGHT
TZOFFSETFROM:+0100
TZOFFSETTO:+0200
TZNAME:CEST
DTSTART:20240331T010000
END:DAYLIGHT
BEGIN:STANDARD
TZOFFSETFROM:+0200
TZOFFSETTO:+0100
TZNAME:CET
DTSTART:20241027T010000
END:STANDARD
BEGIN:DAYLIGHT
TZOFFSETFROM:+0100
TZOFFSETTO:+0200
TZNAME:CEST
DTSTART:20250330T010000
END:DAYLIGHT
BEGIN:STANDARD
TZOFFSETFROM:+0200
TZOFFSETTO:+0100
TZNAME:CET
DTSTART:20251026T010000
END:STANDARD
END:VTIMEZONE
BEGIN:VEVENT
DTSTART;TZID=Europe/Paris:20240505T160000
DTEND;TZID=Europe/Paris:20240505T190000
DTSTAMP:20260422T031505
CREATED:20240425T161017Z
LAST-MODIFIED:20240426T065708Z
UID:3644-1714924800-1714935600@niceavelo.org
SUMMARY:Apéro Femmes à Vélo
DESCRIPTION:Rejoignez-nous pour une rencontre en mixité choisie\, dédiée aux femmes qui font (ou qui feront) du vélo ! \n🚴🏼‍♀️🍾💬 Apéro Femmes à Vélo 💬🍾🚴🏼‍♀️ \nDans un esprit inclusif et accueillant\, nous vous invitons à partager vos expériences\, vos idées et vos envies. \nL’apéro est ouvert à toutes\, peu importe votre niveau de pratique ou même si vous n’avez pas encore de vélo. Nous voulons créer un espace où chacune se sent la bienvenue et encouragée à se lancer dans le monde du vélo. \nC’est l’occasion parfaite pour échanger sur nos trajets quotidiens\, nos aventures sportives et trouver ensemble des solutions aux défis que nous pouvons rencontrer sur la route. Nous sommes là pour nous soutenir mutuellement. \nEnsemble\, réfléchissons à des actions concrètes pour encourager plus de femmes à faire du vélo dans notre ville. Contribuons à rendre la pratique du vélo plus accessible et inclusive pour toutes ! \nAu-delà du vélo\, cet événement est également une occasion de rencontrer d’autres femmes et de créer des liens durables. Ensemble\, faisons résonner notre voix et agissons pour une ville sécurisée et adaptée à nos besoins. 💪🏽 \nInformations pratiques : \n📅 Date : 5 mai\n🕓 Heure : 16h\n📍Lieu : Parc Vigier\n🧺 Apéro collaboratif\, chacune apporte un petit quelque chose à partager ! \n👩🏻‍💻 Des questions ? Contactez Fernanda\, co-responsable du GT Communication : comm@niceavelo.org
URL:https://niceavelo.org/event/apero-femmes-a-velo/
LOCATION:Parc Vigier\, 23 Bd Franck Pilatte\, Nice\, 06300\, France
CATEGORIES:Événement
ATTACH;FMTTYPE=image/png:https://niceavelo.org/wp-content/uploads/2024/04/IG_STORY-1-1.png
END:VEVENT
BEGIN:VEVENT
DTSTART;TZID=Europe/Paris:20240517T200000
DTEND;TZID=Europe/Paris:20240517T220000
DTSTAMP:20260422T031505
CREATED:20240425T155744Z
LAST-MODIFIED:20240425T155744Z
UID:3638-1715976000-1715983200@niceavelo.org
SUMMARY:Ciné-débat : La Roue Libre
DESCRIPTION:France | 2021 | 0h 57min | Documentaire\nDe Sarah Denard\, Marion Valadier\nC’est l’histoire d’un groupe de femmes qui ont décidé de vaincre leurs peurs\, de se dépasser et d’apprendre à pédaler. Le vélo comme arme d’autonomie. Le vélo pour ne plus avoir peur de se faire agresser le soir ou tôt le matin. Le vélo pour ne plus dépendre de quelqu’un pour se rendre au travail\, pour faire ses courses\, mais aussi le vélo pour le plaisir. Il raconte comment un apprentissage\, comment un objet du quotidien\, peuvent redonner confiance et permettre cette impulsion pour sortir de chez soi\, prendre pied dans l’espace public et dans sa vie. \nProjection suivie d’une rencontre avec la réalisatrice Sarah Denard. Événement co-organisé par Cyclotrope et Nice à Vélo. \nInfos pratiques :\n\nRéservation obligatoire : https://bit.ly/tickets-LRL\nVendredi\, 17 mai – 20h à 22h\nCinéma Jean-Paul Belmondo (16\, Place Garibaldi – Nice)\nPrix libre et conscient
URL:https://niceavelo.org/event/cine-debat-la-roue-libre/
LOCATION:Cinéma Jean Paul Belmondo\, 16 Place Garibaldi\, Nice\, Alpes-Maritimes\, 06300\, France
CATEGORIES:Événement,Mai à Vélo,Soirée Ciné
ATTACH;FMTTYPE=image/jpeg:https://niceavelo.org/wp-content/uploads/2024/04/affiche_LRL_NAV.jpeg
END:VEVENT
END:VCALENDAR